BEGIN:VCALENDAR
VERSION:2.0
PRODID:-//CAT Ulm - Veranstaltungen//cat-ulm.de//
BEGIN:VEVENT
SUMMARY:Konzert Cross X\, Rivers & RWP
DTSTART:20170311T200000
DTEND:20170312T050000
DESCRIPTION:http://www.cat-ulm.de/termine/20170311-konzert-cross-x-rivers-
 rwp/
LOCATION:CAT\, Prittwitzstrasse 36\, 89073 Ulm
END:VEVENT
END:VCALENDAR
