BEGIN:VCALENDAR
VERSION:2.0
PRODID:-//CAT Ulm - Veranstaltungen//cat-ulm.de//
BEGIN:VEVENT
SUMMARY:Tarantino Music Night\, West Samoa Surfer League Live
DTSTART:20170415T220000
DTEND:20170416T050000
DESCRIPTION:http://www.cat-ulm.de/termine/20170415-tarantino-music-night-w
 est-samoa-surfer-l/
LOCATION:CAT\, Prittwitzstrasse 36\, 89073 Ulm
END:VEVENT
END:VCALENDAR
