BEGIN:VCALENDAR
VERSION:2.0
PRODID:-//CAT Ulm - Veranstaltungen//cat-ulm.de//
BEGIN:VEVENT
SUMMARY:Soulfire Sessions - Revival
DTSTART:20171111T230000
DTEND:20171112T050000
DESCRIPTION:http://www.cat-ulm.de/termine/20171111-soulfire-sessions-reviv
 al/
LOCATION:CAT\, Prittwitzstrasse 36\, 89073 Ulm
END:VEVENT
END:VCALENDAR
