BEGIN:VCALENDAR
VERSION:2.0
PRODID:-//CAT Ulm - Veranstaltungen//cat-ulm.de//
BEGIN:VEVENT
SUMMARY:CATacombs Of Metal XXV - CROSS VAULT\, KALMEN\, THE AEONS TORN\, M
 OUNTAIN THRONE
DTSTART:20190525T200000
DTEND:20190526T050000
DESCRIPTION:http://www.cat-ulm.de/termine/20190525-catacombs-of-metal-xxv-
 cross-vault-kalmen/
LOCATION:CAT\, Prittwitzstrasse 36\, 89073 Ulm
END:VEVENT
END:VCALENDAR
