BEGIN:VCALENDAR
VERSION:2.0
PRODID:-//CAT Ulm - Veranstaltungen//cat-ulm.de//
BEGIN:VEVENT
SUMMARY:CATCon XLIX
DTSTART:20190927T220000
DTEND:20190929T160000
DESCRIPTION:http://www.cat-ulm.de/termine/20190927-catcon-xlix/
LOCATION:CAT\, Prittwitzstrasse 36\, 89073 Ulm
END:VEVENT
END:VCALENDAR
