BEGIN:VCALENDAR
VERSION:2.0
PRODID:-//CAT Ulm - Veranstaltungen//cat-ulm.de//
BEGIN:VEVENT
SUMMARY:CAT Con Boardgames V
DTSTART:20220319T130000
DTEND:20220320T050000
DESCRIPTION:http://www.cat-ulm.de/termine/20220319-cat-con-boardgames-v/
LOCATION:CAT\, Prittwitzstrasse 36\, 89073 Ulm
END:VEVENT
END:VCALENDAR
