BEGIN:VCALENDAR
VERSION:2.0
PRODID:-//CAT Ulm - Veranstaltungen//cat-ulm.de//
BEGIN:VEVENT
SUMMARY:Hysterese
DTSTART:20220416T190000
DTEND:20220417T050000
DESCRIPTION:http://www.cat-ulm.de/termine/20220416-hysterese/
LOCATION:CAT\, Prittwitzstrasse 36\, 89073 Ulm
END:VEVENT
END:VCALENDAR
