BEGIN:VCALENDAR
VERSION:2.0
PRODID:-//CAT Ulm - Veranstaltungen//cat-ulm.de//
BEGIN:VEVENT
SUMMARY:CATacombs Of Metal XXVIII
DTSTART:20221210T193000
DTEND:20221211T050000
DESCRIPTION:http://www.cat-ulm.de/termine/20221210-catacombs-of-metal-xxvi
 ii/
LOCATION:CAT\, Prittwitzstrasse 36\, 89073 Ulm
END:VEVENT
END:VCALENDAR
