BEGIN:VCALENDAR
VERSION:2.0
PRODID:-//CAT Ulm - Veranstaltungen//cat-ulm.de//
BEGIN:VEVENT
SUMMARY:CATacombs Of Metal XXXIII
DTSTART:20240629T190000
DTEND:20240630T050000
DESCRIPTION:http://www.cat-ulm.de/termine/20240629-catacombs-of-metal-xxxi
 ii/
LOCATION:CAT\, Prittwitzstrasse 36\, 89073 Ulm
END:VEVENT
END:VCALENDAR
